BEGIN:VCALENDAR
VERSION:2.0
PRODID:-//Australian Primary Principals Association (APPA) - ECPv6.15.20//NONSGML v1.0//EN
CALSCALE:GREGORIAN
METHOD:PUBLISH
X-WR-CALNAME:Australian Primary Principals Association (APPA)
X-ORIGINAL-URL:https://appa.asn.au
X-WR-CALDESC:Events for Australian Primary Principals Association (APPA)
REFRESH-INTERVAL;VALUE=DURATION:PT1H
X-Robots-Tag:noindex
X-PUBLISHED-TTL:PT1H
BEGIN:VTIMEZONE
TZID:Australia/Sydney
BEGIN:STANDARD
TZOFFSETFROM:+1100
TZOFFSETTO:+1000
TZNAME:AEST
DTSTART:20250405T160000
END:STANDARD
BEGIN:DAYLIGHT
TZOFFSETFROM:+1000
TZOFFSETTO:+1100
TZNAME:AEDT
DTSTART:20251004T160000
END:DAYLIGHT
BEGIN:STANDARD
TZOFFSETFROM:+1100
TZOFFSETTO:+1000
TZNAME:AEST
DTSTART:20260404T160000
END:STANDARD
BEGIN:DAYLIGHT
TZOFFSETFROM:+1000
TZOFFSETTO:+1100
TZNAME:AEDT
DTSTART:20261003T160000
END:DAYLIGHT
BEGIN:STANDARD
TZOFFSETFROM:+1100
TZOFFSETTO:+1000
TZNAME:AEST
DTSTART:20270403T160000
END:STANDARD
BEGIN:DAYLIGHT
TZOFFSETFROM:+1000
TZOFFSETTO:+1100
TZNAME:AEDT
DTSTART:20271002T160000
END:DAYLIGHT
END:VTIMEZONE
BEGIN:VEVENT
DTSTART;VALUE=DATE:20260831
DTEND;VALUE=DATE:20260904
DTSTAMP:20260421T221139
CREATED:20251216T020022Z
LAST-MODIFIED:20251216T020022Z
UID:6527-1788134400-1788479999@appa.asn.au
SUMMARY:2026 APPA National Conference\, NCC\, Canberra\, ACT
DESCRIPTION:
URL:https://appa.asn.au/event/2026-appa-national-conference-ncc-canberra-act/
END:VEVENT
BEGIN:VEVENT
DTSTART;VALUE=DATE:20260916
DTEND;VALUE=DATE:20260919
DTSTAMP:20260421T221139
CREATED:20251216T021156Z
LAST-MODIFIED:20251216T021156Z
UID:6545-1789516800-1789775999@appa.asn.au
SUMMARY:ICP Conference - Auckland\, NZ
DESCRIPTION:
URL:https://appa.asn.au/event/icp-conference-auckland-nz/
END:VEVENT
END:VCALENDAR