BEGIN:VCALENDAR
VERSION:2.0
PRODID:-//Australian Primary Principals Association (APPA) - ECPv6.15.20//NONSGML v1.0//EN
CALSCALE:GREGORIAN
METHOD:PUBLISH
X-WR-CALNAME:Australian Primary Principals Association (APPA)
X-ORIGINAL-URL:https://appa.asn.au
X-WR-CALDESC:Events for Australian Primary Principals Association (APPA)
REFRESH-INTERVAL;VALUE=DURATION:PT1H
X-Robots-Tag:noindex
X-PUBLISHED-TTL:PT1H
BEGIN:VTIMEZONE
TZID:Australia/Adelaide
BEGIN:STANDARD
TZOFFSETFROM:+1030
TZOFFSETTO:+0930
TZNAME:ACST
DTSTART:20200404T163000
END:STANDARD
BEGIN:DAYLIGHT
TZOFFSETFROM:+0930
TZOFFSETTO:+1030
TZNAME:ACDT
DTSTART:20201003T163000
END:DAYLIGHT
BEGIN:STANDARD
TZOFFSETFROM:+1030
TZOFFSETTO:+0930
TZNAME:ACST
DTSTART:20210403T163000
END:STANDARD
BEGIN:DAYLIGHT
TZOFFSETFROM:+0930
TZOFFSETTO:+1030
TZNAME:ACDT
DTSTART:20211002T163000
END:DAYLIGHT
BEGIN:STANDARD
TZOFFSETFROM:+1030
TZOFFSETTO:+0930
TZNAME:ACST
DTSTART:20220402T163000
END:STANDARD
BEGIN:DAYLIGHT
TZOFFSETFROM:+0930
TZOFFSETTO:+1030
TZNAME:ACDT
DTSTART:20221001T163000
END:DAYLIGHT
END:VTIMEZONE
BEGIN:VEVENT
DTSTART;VALUE=DATE:20211026
DTEND;VALUE=DATE:20211027
DTSTAMP:20260423T144214
CREATED:20201209T224253Z
LAST-MODIFIED:20210921T015534Z
UID:3498-1635206400-1635292799@appa.asn.au
SUMMARY:APPA NAC Term 4 Meeting - Session #1
DESCRIPTION:Online
URL:https://appa.asn.au/event/appa-nac-term-4-meeting/
END:VEVENT
BEGIN:VEVENT
DTSTART;VALUE=DATE:20211029
DTEND;VALUE=DATE:20211030
DTSTAMP:20260423T144214
CREATED:20210921T015022Z
LAST-MODIFIED:20210921T015022Z
UID:3719-1635465600-1635551999@appa.asn.au
SUMMARY:World Teachers Day - Australia
DESCRIPTION:
URL:https://appa.asn.au/event/world-teachers-day-australia/
END:VEVENT
END:VCALENDAR