BEGIN:VCALENDAR
VERSION:2.0
PRODID:-//Australian Primary Principals Association (APPA) - ECPv6.15.20//NONSGML v1.0//EN
CALSCALE:GREGORIAN
METHOD:PUBLISH
X-WR-CALNAME:Australian Primary Principals Association (APPA)
X-ORIGINAL-URL:https://appa.asn.au
X-WR-CALDESC:Events for Australian Primary Principals Association (APPA)
REFRESH-INTERVAL;VALUE=DURATION:PT1H
X-Robots-Tag:noindex
X-PUBLISHED-TTL:PT1H
BEGIN:VTIMEZONE
TZID:Australia/Adelaide
BEGIN:STANDARD
TZOFFSETFROM:+1030
TZOFFSETTO:+0930
TZNAME:ACST
DTSTART:20200404T163000
END:STANDARD
BEGIN:DAYLIGHT
TZOFFSETFROM:+0930
TZOFFSETTO:+1030
TZNAME:ACDT
DTSTART:20201003T163000
END:DAYLIGHT
BEGIN:STANDARD
TZOFFSETFROM:+1030
TZOFFSETTO:+0930
TZNAME:ACST
DTSTART:20210403T163000
END:STANDARD
BEGIN:DAYLIGHT
TZOFFSETFROM:+0930
TZOFFSETTO:+1030
TZNAME:ACDT
DTSTART:20211002T163000
END:DAYLIGHT
BEGIN:STANDARD
TZOFFSETFROM:+1030
TZOFFSETTO:+0930
TZNAME:ACST
DTSTART:20220402T163000
END:STANDARD
BEGIN:DAYLIGHT
TZOFFSETFROM:+0930
TZOFFSETTO:+1030
TZNAME:ACDT
DTSTART:20221001T163000
END:DAYLIGHT
END:VTIMEZONE
BEGIN:VEVENT
DTSTART;TZID=Australia/Adelaide:20210601T110000
DTEND;TZID=Australia/Adelaide:20210601T123000
DTSTAMP:20260423T203954
CREATED:20201026T042810Z
LAST-MODIFIED:20201026T042941Z
UID:3412-1622545200-1622550600@appa.asn.au
SUMMARY:NAC: Term 2\, 2021 Session #2
DESCRIPTION:
URL:https://appa.asn.au/event/nac-term-2-2021-session-1/
END:VEVENT
BEGIN:VEVENT
DTSTART;TZID=Australia/Adelaide:20210608T110000
DTEND;TZID=Australia/Adelaide:20210608T123000
DTSTAMP:20260423T203954
CREATED:20201026T043139Z
LAST-MODIFIED:20201026T043246Z
UID:3418-1623150000-1623155400@appa.asn.au
SUMMARY:NAC: Term 2\, 2021 Session #3
DESCRIPTION:
URL:https://appa.asn.au/event/nac-term-2-2021-session-3/
END:VEVENT
BEGIN:VEVENT
DTSTART;TZID=Australia/Adelaide:20210622T110000
DTEND;TZID=Australia/Adelaide:20210622T123000
DTSTAMP:20260423T203954
CREATED:20201026T043345Z
LAST-MODIFIED:20201026T043345Z
UID:3420-1624359600-1624365000@appa.asn.au
SUMMARY:APPA Board June
DESCRIPTION:
URL:https://appa.asn.au/event/appa-board-june/
END:VEVENT
BEGIN:VEVENT
DTSTART;TZID=Australia/Adelaide:20210624T193000
DTEND;TZID=Australia/Adelaide:20210624T203000
DTSTAMP:20260423T203954
CREATED:20201026T043444Z
LAST-MODIFIED:20201026T043444Z
UID:3422-1624563000-1624566600@appa.asn.au
SUMMARY:NAC Agenda-less Catch Up June - Optional Session # 1
DESCRIPTION:
URL:https://appa.asn.au/event/nac-agenda-less-catch-up-june-optional-session-1/
END:VEVENT
BEGIN:VEVENT
DTSTART;TZID=Australia/Adelaide:20210625T130000
DTEND;TZID=Australia/Adelaide:20210625T140000
DTSTAMP:20260423T203954
CREATED:20201026T043559Z
LAST-MODIFIED:20201026T043559Z
UID:3424-1624626000-1624629600@appa.asn.au
SUMMARY:NAC Agenda-less Catch Up June - Optional Session # 2
DESCRIPTION:
URL:https://appa.asn.au/event/nac-agenda-less-catch-up-june-optional-session-2/
END:VEVENT
END:VCALENDAR