BEGIN:VCALENDAR
VERSION:2.0
PRODID:-//Australian Primary Principals Association (APPA) - ECPv6.15.20//NONSGML v1.0//EN
CALSCALE:GREGORIAN
METHOD:PUBLISH
X-WR-CALNAME:Australian Primary Principals Association (APPA)
X-ORIGINAL-URL:https://appa.asn.au
X-WR-CALDESC:Events for Australian Primary Principals Association (APPA)
REFRESH-INTERVAL;VALUE=DURATION:PT1H
X-Robots-Tag:noindex
X-PUBLISHED-TTL:PT1H
BEGIN:VTIMEZONE
TZID:Australia/Adelaide
BEGIN:STANDARD
TZOFFSETFROM:+1030
TZOFFSETTO:+0930
TZNAME:ACST
DTSTART:20200404T163000
END:STANDARD
BEGIN:DAYLIGHT
TZOFFSETFROM:+0930
TZOFFSETTO:+1030
TZNAME:ACDT
DTSTART:20201003T163000
END:DAYLIGHT
BEGIN:STANDARD
TZOFFSETFROM:+1030
TZOFFSETTO:+0930
TZNAME:ACST
DTSTART:20210403T163000
END:STANDARD
BEGIN:DAYLIGHT
TZOFFSETFROM:+0930
TZOFFSETTO:+1030
TZNAME:ACDT
DTSTART:20211002T163000
END:DAYLIGHT
BEGIN:STANDARD
TZOFFSETFROM:+1030
TZOFFSETTO:+0930
TZNAME:ACST
DTSTART:20220402T163000
END:STANDARD
BEGIN:DAYLIGHT
TZOFFSETFROM:+0930
TZOFFSETTO:+1030
TZNAME:ACDT
DTSTART:20221001T163000
END:DAYLIGHT
END:VTIMEZONE
BEGIN:VEVENT
DTSTART;TZID=Australia/Adelaide:20210302T110000
DTEND;TZID=Australia/Adelaide:20210302T123000
DTSTAMP:20260424T014154
CREATED:20201026T041942Z
LAST-MODIFIED:20201026T041942Z
UID:3398-1614682800-1614688200@appa.asn.au
SUMMARY:NAC: Term 1\, 2021 Session #2
DESCRIPTION:
URL:https://appa.asn.au/event/nac-term-1-2021-session-2/
END:VEVENT
BEGIN:VEVENT
DTSTART;TZID=Australia/Adelaide:20210309T110000
DTEND;TZID=Australia/Adelaide:20210309T123000
DTSTAMP:20260424T014154
CREATED:20201026T042032Z
LAST-MODIFIED:20201026T042032Z
UID:3400-1615287600-1615293000@appa.asn.au
SUMMARY:NAC: Term 1\, 2021 Session #3
DESCRIPTION:
URL:https://appa.asn.au/event/nac-term-1-2021-session-3/
END:VEVENT
BEGIN:VEVENT
DTSTART;TZID=Australia/Adelaide:20210325T193000
DTEND;TZID=Australia/Adelaide:20210325T203000
DTSTAMP:20260424T014154
CREATED:20201026T042133Z
LAST-MODIFIED:20201026T042133Z
UID:3402-1616700600-1616704200@appa.asn.au
SUMMARY:NAC Agenda-less Catch Up March- Optional Session # 1
DESCRIPTION:
URL:https://appa.asn.au/event/nac-agenda-less-catch-up-march-optional-session-1/
END:VEVENT
BEGIN:VEVENT
DTSTART;TZID=Australia/Adelaide:20210326T130000
DTEND;TZID=Australia/Adelaide:20210326T140000
DTSTAMP:20260424T014154
CREATED:20201026T042219Z
LAST-MODIFIED:20201026T042219Z
UID:3404-1616763600-1616767200@appa.asn.au
SUMMARY:NAC Agenda-less Catch Up March- Optional Session # 2
DESCRIPTION:
URL:https://appa.asn.au/event/nac-agenda-less-catch-up-march-optional-session-2/
END:VEVENT
BEGIN:VEVENT
DTSTART;TZID=Australia/Adelaide:20210331T110000
DTEND;TZID=Australia/Adelaide:20210331T143000
DTSTAMP:20260424T014154
CREATED:20201026T042315Z
LAST-MODIFIED:20201209T213812Z
UID:3406-1617188400-1617201000@appa.asn.au
SUMMARY:APPA Board Meeting March
DESCRIPTION:
URL:https://appa.asn.au/event/appa-board-meeting-march/
END:VEVENT
END:VCALENDAR