BEGIN:VCALENDAR
VERSION:2.0
PRODID:-//Australian Primary Principals Association (APPA) - ECPv6.15.20//NONSGML v1.0//EN
CALSCALE:GREGORIAN
METHOD:PUBLISH
X-ORIGINAL-URL:https://appa.asn.au
X-WR-CALDESC:Events for Australian Primary Principals Association (APPA)
REFRESH-INTERVAL;VALUE=DURATION:PT1H
X-Robots-Tag:noindex
X-PUBLISHED-TTL:PT1H
BEGIN:VTIMEZONE
TZID:UTC
BEGIN:STANDARD
TZOFFSETFROM:+0000
TZOFFSETTO:+0000
TZNAME:UTC
DTSTART:20190101T000000
END:STANDARD
END:VTIMEZONE
BEGIN:VEVENT
DTSTART;TZID=UTC:20200428T080000
DTEND;TZID=UTC:20200428T170000
DTSTAMP:20260424T192401
CREATED:20200312T170143Z
LAST-MODIFIED:20200312T170143Z
UID:206-1588060800-1588093200@appa.asn.au
SUMMARY:Event title to go here
DESCRIPTION:
URL:https://appa.asn.au/event/event-title-to-go-here-2/
END:VEVENT
END:VCALENDAR